BEGIN:VCALENDAR
VERSION:2.0
TZ:+2
PRODID:-//static2dynamic//events 5.939//EN
CALSCALE:GREGORIAN
BEGIN:VEVENT
UID:8f7e776409e8687ce484e6d570f1ffb6
DTSTART:20260825T081500
DTEND:20260827T171500
SUMMARY:Basiskurs für Umweltbeauftragte (Teil 1)
LOCATION:Swissmem\, Pfingstweidstrasse 102\, 8005 Zürich
DESCRIPTION:Richtig eingeführtes systematisches Umweltmanagement lohnt s
 ich!\nSind Sie für das Umweltmanagement in Ihrem Unternehmen zuständig\
 , aber Ihnen fehlt das Grundwissen dazu? Dann ist dieser Basiskurs für S
 ie genau richtig!\n\nDer 5-tägige Basiskurs für Umweltbeauftragte von S
 wissmem vermittelt ein\numfassendes Grundwissen zum betriebsrelevanten Um
 weltschutz.\n\nDaten:\nTeil 1     25.-27. August 2026\nTeil 2     15.-16.
  September 2026\n\nDer Basiskurs wird an die Ausbildung zum Umweltmanager
 \, resp. Nachhaltigkeitsmanager bei der SAQ-QUALICON angerechnet.
URL;VALUE=URI:https://www.swissmem-academy.ch/de/kurse/basiskurs-fuer-umweltbeauftragte.html
SEQUENCE:0
END:VEVENT
END:VCALENDAR
