BEGIN:VCALENDAR
VERSION:2.0
TZ:+2
PRODID:-//static2dynamic//events 5.939//EN
CALSCALE:GREGORIAN
BEGIN:VEVENT
UID:217f026ec8ebf193ea24faef51c9cb0c
DTSTART:20260513T091500
DTEND:20260513T164500
SUMMARY:29. Mitgliederversammlung
LOCATION:Roche Diagnostics (International) Ltd. in 6343 Rotkreuz\, ZG
DESCRIPTION:Die jährliche Mitgliederversammlung des Vereins ECO SWISS fi
 ndet in diesem Jahr am 13. Mai 2026 in Rotkreuz\, Kanton Zug statt. \nNac
 h der Versammlung und dem Mittagessen gibt es die Möglichkeit\, an einer
  Führung durch den Standort von Roche Diagnostics teilzunehmen.\n\nRoche
  ist seit über 55 Jahren an seinem Standort in Rotkreuz tätig. Roche Di
 agnostics ist der grösste Arbeitgeber im Kanton Zug und beschäftigt meh
 r als 2'990 Mitarbeiter aus 79 Nationen. Darüber hinaus werden in Rotkre
 uz mehr als 171 Lehrlinge in 11 verschiedenen Berufsfeldern ausgebildet. 
 Neben Roche Diagnostics International Ltd befindet sich auch die Vertrieb
 sorganisation Roche Diagnostics (Switzerland) Ltd am Standort. \nRotkreuz
  ist einer der wichtigsten Standorte für das Diagnostikgeschäft und ver
 eint alle zentralen Funktionen und Geschäftsbereiche. \n\nDie Teilnahme 
 ist für stimmberechtigte Vertreter/-innen der Vereinsmitglieder und gela
 dene Gäste kostenlos.\nVon weiteren Teilnehmenden aus dem Kreis der Vere
 insmitglieder\, der Unternehmen der EKAS-zertifizierten Branchenlösung 4
 3 oder der Kooperationsvereinbarung Grosstanklager wird ein Unkostenbeitr
 ag von 30 Franken erhoben.\n\nWeitere Informationen im [link url="https:/
 /www.eco-swiss.ch/verein/mv-protokoll" target="_self"]Memberbereich[/link
 ] \n***********
URL;VALUE=URI:/kurse-und-events?pagenum=7&s2d_Kurs={s2d_events_title}&s2d_Datum={s2d_events_startdate}+{s2d_events_starttime}+{s2d_events_datetime_separator}+{s2d_events_enddate}+{s2d_events_endtime}
SEQUENCE:0
END:VEVENT
END:VCALENDAR
