BEGIN:VCALENDAR
VERSION:2.0
TZ:+2
PRODID:-//static2dynamic//events 5.939//EN
CALSCALE:GREGORIAN
BEGIN:VEVENT
UID:d0dc423abc085fa9e04cd4e0b4669587
DTSTART:20260609T000000
DTEND:20260609T000000
SUMMARY:journÃ©e nationale des dÃ©chets spÃ©ciaux
LOCATION:lâ€™hÃ´tel ARTE Seminar- und Konferenzhotel Ã  Olten
DESCRIPTION:[b]Organisateur[/b] EcoServe\n\nLa 23Ã© journÃ©e suisse des d
 Ã©chets spÃ©ciaux\, le 9 juin 2026\, Ã  l'hÃ´tel ARTE Seminar- und Konfer
 enzhotel Ã  Olten.\n\n[b]Audiences cibles[/b]\nResponsables de lâ€˜Ã©limi
 nation de dÃ©chets et agents de sÃ©curitÃ© issus dâ€˜entreprises remettan
 tes\,  de transport et dâ€˜Ã©limination. \nAinsi que les institutions et 
 autoritÃ©es impliquÃ©es dans le traitement et la gestion des dÃ©chets.\n\
 nLe rendez-vous pour les responsables et spÃ©cialistes de lâ€™Ã©liminatio
 n de dÃ©chets\, permettant lâ€™Ã©change entre les parties concernÃ©es et 
 lâ€™opportunitÃ©\nde sâ€™adresser aux experts \n\nPour plus d'information
 s et pour obtenir le formulaire d'inscription\, [link url="https://www.ec
 oserve.ch/course_class/318" target="_self"]veuillez cliquer ici[/link]\n\
 nVeuillez indiquer dans la rubrique Remarques [b]Â« AdhÃ©rent ECO SWISS Â
 »[/b] pour bÃ©nÃ©ficier d'une rÃ©duction de condition.
URL;VALUE=URI:
SEQUENCE:0
END:VEVENT
END:VCALENDAR
