BEGIN:VCALENDAR
VERSION:2.0
TZ:+2
PRODID:-//static2dynamic//events 5.939//EN
CALSCALE:GREGORIAN
BEGIN:VEVENT
UID:0148941014a62de106562ba62398536c
DTSTART:20260513T084500
DTEND:20260513T164500
SUMMARY:No. 29 L'assemblÃ©e des membres
LOCATION:Roche Diagnostics (International) Ltd. in 6343 Rotkreuz\, ZG
DESCRIPTION:L'assemblÃ©e gÃ©nÃ©rale annuelle de l'association ECO SWISS s
 e tiendra cette annÃ©e le 13 mai 2026 Ã  Rotkreuz\, dans le canton de Zug
 .\nAprÃ¨s l'assemblÃ©e et le dÃ©jeuner\, il sera possible de participer Ã
   une visite guidÃ©e du site de Roche Diagnostics.\n\nRoche est implantÃ©
 e Ã  Rotkreuz depuis plus de 55 ans. Roche Diagnostics est le plus grand 
 employeur du canton de Zug et emploie plus de 2'990 collaborateurs de 79 
 nationalitÃ©s diffÃ©rentes. En outre\, plus de 171 apprentis sont formÃ©s
  Ã  Rotkreuz dans 11 domaines professionnels diffÃ©rents. Outre Roche Dia
 gnostics International Ltd\, l'organisation commerciale Roche Diagnostics
  (Switzerland) Ltd est Ã©galement implantÃ©e sur le site.\nRotkreuz est l
 'un des sites les plus importants pour l'activitÃ© de diagnostic et regro
 upe toutes les fonctions centrales et tous les domaines d'activitÃ©.\n\nL
 e programme dÃ©taillÃ© sera communiquÃ© en avril.\n\n[b]CoÃ»t[/b]        
                                                                          
                                (repas de midi et visite inclus)\nMembre d
 e l'association (1er reprÃ©sentant)  - gratuit\nMembre de l'association (
 dÃ¨s le 2Ã¨me participant)  - CHF 40.00\n\nMembre avec solution de branch
 e CFST / DÃ©pÃ´t (1er reprÃ©sentant)  - CHF 30.00\nEntreprise CFST ou DÃ©
 pÃ´t (hors association) (1er reprÃ©sentant)  - CHF 30.00\nParticipant sup
 plÃ©mentaire (CFST ou DÃ©pÃ´t)  - CHF 40.00\nInvitÃ©s  - gratuit
URL;VALUE=URI:https://www.eco-swiss.ch/index-de.php?frameset=2&page=32
SEQUENCE:0
END:VEVENT
END:VCALENDAR
